BEGIN:VCALENDAR
VERSION:2.0
PRODID:-//wp-events-plugin.com//7.2.3.1//EN
TZID:America/Los_Angeles
X-WR-TIMEZONE:America/Los_Angeles
BEGIN:VEVENT
UID:84@mindfulartistry.com
DTSTART:20210302T180000Z
DTEND:20210302T210000Z
DTSTAMP:20210218T181016Z
URL:https://mindfulartistry.com/events/mindful-artistry-retreat-2-2021-03-
 02/
SUMMARY:Mindful Artistry Retreat
DESCRIPTION:Meditative creative productivity sessions for artists\, entrepr
 eneurs and co-workers. Bring your projects!
END:VEVENT
BEGIN:VEVENT
UID:85@mindfulartistry.com
DTSTART:20210304T180000Z
DTEND:20210304T210000Z
DTSTAMP:20210218T181016Z
URL:https://mindfulartistry.com/events/mindful-artistry-retreat-2-2021-03-
 04/
SUMMARY:Mindful Artistry Retreat
DESCRIPTION:Meditative creative productivity sessions for artists\, entrepr
 eneurs and co-workers. Bring your projects!
END:VEVENT
BEGIN:VEVENT
UID:67@mindfulartistry.com
DTSTART:20210305T020000Z
DTEND:20210305T050000Z
DTSTAMP:20210216T051027Z
URL:https://mindfulartistry.com/events/mindful-artistry-retreat-3-2021-03-
 04/
SUMMARY:Mindful Artistry Retreat
DESCRIPTION:Meditative creative productivity sessions for artists\, entrepr
 eneurs and co-workers. Bring your projects!
ATTACH;FMTTYPE=image/jpeg:https://mindfulartistry.com/wp-content/uploads/2
 021/02/13.png
END:VEVENT
BEGIN:VEVENT
UID:86@mindfulartistry.com
DTSTART:20210305T180000Z
DTEND:20210305T210000Z
DTSTAMP:20210218T181016Z
URL:https://mindfulartistry.com/events/mindful-artistry-retreat-2-2021-03-
 05/
SUMMARY:Mindful Artistry Retreat
DESCRIPTION:Meditative creative productivity sessions for artists\, entrepr
 eneurs and co-workers. Bring your projects!
END:VEVENT
BEGIN:VEVENT
UID:87@mindfulartistry.com
DTSTART:20210309T180000Z
DTEND:20210309T210000Z
DTSTAMP:20210218T181016Z
URL:https://mindfulartistry.com/events/mindful-artistry-retreat-2-2021-03-
 09/
SUMMARY:Mindful Artistry Retreat
DESCRIPTION:Meditative creative productivity sessions for artists\, entrepr
 eneurs and co-workers. Bring your projects!
END:VEVENT
BEGIN:VEVENT
UID:88@mindfulartistry.com
DTSTART:20210311T180000Z
DTEND:20210311T210000Z
DTSTAMP:20210218T181016Z
URL:https://mindfulartistry.com/events/mindful-artistry-retreat-2-2021-03-
 11/
SUMMARY:Mindful Artistry Retreat
DESCRIPTION:Meditative creative productivity sessions for artists\, entrepr
 eneurs and co-workers. Bring your projects!
END:VEVENT
BEGIN:VEVENT
UID:68@mindfulartistry.com
DTSTART:20210312T020000Z
DTEND:20210312T050000Z
DTSTAMP:20210216T052445Z
URL:https://mindfulartistry.com/events/mindful-artistry-retreat-3-2021-03-
 11/
SUMMARY:Mindful Artistry Retreat
DESCRIPTION:Meditative creative productivity sessions for artists\, entrepr
 eneurs and co-workers. Bring your projects!
ATTACH;FMTTYPE=image/jpeg:https://mindfulartistry.com/wp-content/uploads/2
 021/02/17.png
END:VEVENT
BEGIN:VEVENT
UID:89@mindfulartistry.com
DTSTART:20210312T180000Z
DTEND:20210312T210000Z
DTSTAMP:20210218T181016Z
URL:https://mindfulartistry.com/events/mindful-artistry-retreat-2-2021-03-
 12/
SUMMARY:Mindful Artistry Retreat
DESCRIPTION:Meditative creative productivity sessions for artists\, entrepr
 eneurs and co-workers. Bring your projects!
END:VEVENT
BEGIN:VEVENT
UID:90@mindfulartistry.com
DTSTART:20210316T180000Z
DTEND:20210316T210000Z
DTSTAMP:20210218T181016Z
URL:https://mindfulartistry.com/events/mindful-artistry-retreat-2-2021-03-
 16/
SUMMARY:Mindful Artistry Retreat
DESCRIPTION:Meditative creative productivity sessions for artists\, entrepr
 eneurs and co-workers. Bring your projects!
END:VEVENT
BEGIN:VEVENT
UID:91@mindfulartistry.com
DTSTART:20210318T180000Z
DTEND:20210318T210000Z
DTSTAMP:20210218T181016Z
URL:https://mindfulartistry.com/events/mindful-artistry-retreat-2-2021-03-
 18/
SUMMARY:Mindful Artistry Retreat
DESCRIPTION:Meditative creative productivity sessions for artists\, entrepr
 eneurs and co-workers. Bring your projects!
END:VEVENT
BEGIN:VEVENT
UID:69@mindfulartistry.com
DTSTART:20210319T020000Z
DTEND:20210319T050000Z
DTSTAMP:20210216T053902Z
URL:https://mindfulartistry.com/events/mindful-artistry-retreat-3-2021-03-
 18/
SUMMARY:Mindful Artistry Retreat
DESCRIPTION:Meditative creative productivity sessions for artists\, entrepr
 eneurs and co-workers. Bring your projects!
ATTACH;FMTTYPE=image/jpeg:https://mindfulartistry.com/wp-content/uploads/2
 021/02/20.png
END:VEVENT
BEGIN:VEVENT
UID:92@mindfulartistry.com
DTSTART:20210319T180000Z
DTEND:20210319T210000Z
DTSTAMP:20210218T181016Z
URL:https://mindfulartistry.com/events/mindful-artistry-retreat-2-2021-03-
 19/
SUMMARY:Mindful Artistry Retreat
DESCRIPTION:Meditative creative productivity sessions for artists\, entrepr
 eneurs and co-workers. Bring your projects!
END:VEVENT
BEGIN:VEVENT
UID:93@mindfulartistry.com
DTSTART:20210323T180000Z
DTEND:20210323T210000Z
DTSTAMP:20210218T181016Z
URL:https://mindfulartistry.com/events/mindful-artistry-retreat-2-2021-03-
 23/
SUMMARY:Mindful Artistry Retreat
DESCRIPTION:Meditative creative productivity sessions for artists\, entrepr
 eneurs and co-workers. Bring your projects!
END:VEVENT
BEGIN:VEVENT
UID:94@mindfulartistry.com
DTSTART:20210325T180000Z
DTEND:20210325T210000Z
DTSTAMP:20210218T181016Z
URL:https://mindfulartistry.com/events/mindful-artistry-retreat-2-2021-03-
 25/
SUMMARY:Mindful Artistry Retreat
DESCRIPTION:Meditative creative productivity sessions for artists\, entrepr
 eneurs and co-workers. Bring your projects!
END:VEVENT
BEGIN:VEVENT
UID:95@mindfulartistry.com
DTSTART:20210326T180000Z
DTEND:20210326T210000Z
DTSTAMP:20210218T181016Z
URL:https://mindfulartistry.com/events/mindful-artistry-retreat-2-2021-03-
 26/
SUMMARY:Mindful Artistry Retreat
DESCRIPTION:Meditative creative productivity sessions for artists\, entrepr
 eneurs and co-workers. Bring your projects!
END:VEVENT
BEGIN:VEVENT
UID:96@mindfulartistry.com
DTSTART:20210330T180000Z
DTEND:20210330T210000Z
DTSTAMP:20210218T181016Z
URL:https://mindfulartistry.com/events/mindful-artistry-retreat-2-2021-03-
 30/
SUMMARY:Mindful Artistry Retreat
DESCRIPTION:Meditative creative productivity sessions for artists\, entrepr
 eneurs and co-workers. Bring your projects!
END:VEVENT
BEGIN:VEVENT
UID:97@mindfulartistry.com
DTSTART:20210401T180000Z
DTEND:20210401T210000Z
DTSTAMP:20210218T181016Z
URL:https://mindfulartistry.com/events/mindful-artistry-retreat-2-2021-04-
 01/
SUMMARY:Mindful Artistry Retreat
DESCRIPTION:Meditative creative productivity sessions for artists\, entrepr
 eneurs and co-workers. Bring your projects!
END:VEVENT
BEGIN:VEVENT
UID:98@mindfulartistry.com
DTSTART:20210402T180000Z
DTEND:20210402T210000Z
DTSTAMP:20210218T181016Z
URL:https://mindfulartistry.com/events/mindful-artistry-retreat-2-2021-04-
 02/
SUMMARY:Mindful Artistry Retreat
DESCRIPTION:Meditative creative productivity sessions for artists\, entrepr
 eneurs and co-workers. Bring your projects!
END:VEVENT
BEGIN:VEVENT
UID:99@mindfulartistry.com
DTSTART:20210406T180000Z
DTEND:20210406T210000Z
DTSTAMP:20210218T181016Z
URL:https://mindfulartistry.com/events/mindful-artistry-retreat-2-2021-04-
 06/
SUMMARY:Mindful Artistry Retreat
DESCRIPTION:Meditative creative productivity sessions for artists\, entrepr
 eneurs and co-workers. Bring your projects!
END:VEVENT
BEGIN:VEVENT
UID:100@mindfulartistry.com
DTSTART:20210408T180000Z
DTEND:20210408T210000Z
DTSTAMP:20210218T181016Z
URL:https://mindfulartistry.com/events/mindful-artistry-retreat-2-2021-04-
 08/
SUMMARY:Mindful Artistry Retreat
DESCRIPTION:Meditative creative productivity sessions for artists\, entrepr
 eneurs and co-workers. Bring your projects!
END:VEVENT
BEGIN:VEVENT
UID:101@mindfulartistry.com
DTSTART:20210409T180000Z
DTEND:20210409T210000Z
DTSTAMP:20210218T181016Z
URL:https://mindfulartistry.com/events/mindful-artistry-retreat-2-2021-04-
 09/
SUMMARY:Mindful Artistry Retreat
DESCRIPTION:Meditative creative productivity sessions for artists\, entrepr
 eneurs and co-workers. Bring your projects!
END:VEVENT
BEGIN:VEVENT
UID:102@mindfulartistry.com
DTSTART:20210413T180000Z
DTEND:20210413T210000Z
DTSTAMP:20210218T181016Z
URL:https://mindfulartistry.com/events/mindful-artistry-retreat-2-2021-04-
 13/
SUMMARY:Mindful Artistry Retreat
DESCRIPTION:Meditative creative productivity sessions for artists\, entrepr
 eneurs and co-workers. Bring your projects!
END:VEVENT
BEGIN:VEVENT
UID:103@mindfulartistry.com
DTSTART:20210415T180000Z
DTEND:20210415T210000Z
DTSTAMP:20210218T181016Z
URL:https://mindfulartistry.com/events/mindful-artistry-retreat-2-2021-04-
 15/
SUMMARY:Mindful Artistry Retreat
DESCRIPTION:Meditative creative productivity sessions for artists\, entrepr
 eneurs and co-workers. Bring your projects!
END:VEVENT
BEGIN:VEVENT
UID:104@mindfulartistry.com
DTSTART:20210416T180000Z
DTEND:20210416T210000Z
DTSTAMP:20210218T181016Z
URL:https://mindfulartistry.com/events/mindful-artistry-retreat-2-2021-04-
 16/
SUMMARY:Mindful Artistry Retreat
DESCRIPTION:Meditative creative productivity sessions for artists\, entrepr
 eneurs and co-workers. Bring your projects!
END:VEVENT
BEGIN:VEVENT
UID:105@mindfulartistry.com
DTSTART:20210420T180000Z
DTEND:20210420T210000Z
DTSTAMP:20210218T181016Z
URL:https://mindfulartistry.com/events/mindful-artistry-retreat-2-2021-04-
 20/
SUMMARY:Mindful Artistry Retreat
DESCRIPTION:Meditative creative productivity sessions for artists\, entrepr
 eneurs and co-workers. Bring your projects!
END:VEVENT
BEGIN:VEVENT
UID:106@mindfulartistry.com
DTSTART:20210422T180000Z
DTEND:20210422T210000Z
DTSTAMP:20210218T181016Z
URL:https://mindfulartistry.com/events/mindful-artistry-retreat-2-2021-04-
 22/
SUMMARY:Mindful Artistry Retreat
DESCRIPTION:Meditative creative productivity sessions for artists\, entrepr
 eneurs and co-workers. Bring your projects!
END:VEVENT
BEGIN:VEVENT
UID:107@mindfulartistry.com
DTSTART:20210423T180000Z
DTEND:20210423T210000Z
DTSTAMP:20210218T181016Z
URL:https://mindfulartistry.com/events/mindful-artistry-retreat-2-2021-04-
 23/
SUMMARY:Mindful Artistry Retreat
DESCRIPTION:Meditative creative productivity sessions for artists\, entrepr
 eneurs and co-workers. Bring your projects!
END:VEVENT
BEGIN:VEVENT
UID:108@mindfulartistry.com
DTSTART:20210427T180000Z
DTEND:20210427T210000Z
DTSTAMP:20210218T181016Z
URL:https://mindfulartistry.com/events/mindful-artistry-retreat-2-2021-04-
 27/
SUMMARY:Mindful Artistry Retreat
DESCRIPTION:Meditative creative productivity sessions for artists\, entrepr
 eneurs and co-workers. Bring your projects!
END:VEVENT
BEGIN:VEVENT
UID:109@mindfulartistry.com
DTSTART:20210429T180000Z
DTEND:20210429T210000Z
DTSTAMP:20210218T181016Z
URL:https://mindfulartistry.com/events/mindful-artistry-retreat-2-2021-04-
 29/
SUMMARY:Mindful Artistry Retreat
DESCRIPTION:Meditative creative productivity sessions for artists\, entrepr
 eneurs and co-workers. Bring your projects!
END:VEVENT
BEGIN:VEVENT
UID:110@mindfulartistry.com
DTSTART:20210430T180000Z
DTEND:20210430T210000Z
DTSTAMP:20210218T181016Z
URL:https://mindfulartistry.com/events/mindful-artistry-retreat-2-2021-04-
 30/
SUMMARY:Mindful Artistry Retreat
DESCRIPTION:Meditative creative productivity sessions for artists\, entrepr
 eneurs and co-workers. Bring your projects!
END:VEVENT
BEGIN:VEVENT
UID:111@mindfulartistry.com
DTSTART:20210928T180000Z
DTEND:20210928T210000Z
DTSTAMP:20210926T231027Z
URL:https://mindfulartistry.com/events/retreat-sept-28th/
SUMMARY:Retreat - Sept. 28th
DESCRIPTION:Meditative creative productivity sessions for artists\, entrepr
 eneurs and co-workers. Create alone or invite the whole team to sign up. B
 ring your projects!
ATTACH;FMTTYPE=image/jpeg:https://mindfulartistry.com/wp-content/uploads/2
 021/02/27-1.png
END:VEVENT
BEGIN:VEVENT
UID:112@mindfulartistry.com
DTSTART:20210930T180000Z
DTEND:20210930T210000Z
DTSTAMP:20210926T230924Z
URL:https://mindfulartistry.com/events/retreat-sept-30th/
SUMMARY:Retreat - Sept 30th
DESCRIPTION:Meditative creative productivity sessions for artists\, entrepr
 eneurs and co-workers. Create alone or invite the whole team to sign up. B
 ring your projects!
ATTACH;FMTTYPE=image/jpeg:https://mindfulartistry.com/wp-content/uploads/2
 021/09/12.png
END:VEVENT
BEGIN:VEVENT
UID:113@mindfulartistry.com
DTSTART:20211007T180000Z
DTEND:20211007T210000Z
DTSTAMP:20211005T182250Z
URL:https://mindfulartistry.com/events/retreat-oct-7/
SUMMARY:Retreat - Oct 7
DESCRIPTION:Meditative creative productivity sessions for artists\, entrepr
 eneurs and co-workers. Create alone or invite the whole team to sign up. B
 ring your projects!
ATTACH;FMTTYPE=image/jpeg:https://mindfulartistry.com/wp-content/uploads/2
 021/10/13.png
END:VEVENT
BEGIN:VEVENT
UID:114@mindfulartistry.com
DTSTART:20211012T180000Z
DTEND:20211012T210000Z
DTSTAMP:20211005T182646Z
URL:https://mindfulartistry.com/events/retreat-october-12/
SUMMARY:Retreat - October 12
DESCRIPTION:Meditative creative productivity sessions for artists\, entrepr
 eneurs and co-workers. Create alone or invite the whole team to sign up. B
 ring your projects!
ATTACH;FMTTYPE=image/jpeg:https://mindfulartistry.com/wp-content/uploads/2
 021/10/15.png
END:VEVENT
BEGIN:VEVENT
UID:115@mindfulartistry.com
DTSTART:20211019T180000Z
DTEND:20211019T210000Z
DTSTAMP:20211005T182937Z
URL:https://mindfulartistry.com/events/retreat-oct-19/
SUMMARY:Retreat - Oct 19
DESCRIPTION:Meditative creative productivity sessions for artists\, entrepr
 eneurs and co-workers. Create alone or invite the whole team to sign up. B
 ring your projects!
ATTACH;FMTTYPE=image/jpeg:https://mindfulartistry.com/wp-content/uploads/2
 021/10/16.png
END:VEVENT
BEGIN:VEVENT
UID:116@mindfulartistry.com
DTSTART:20211026T180000Z
DTEND:20211026T210000Z
DTSTAMP:20211026T014008Z
URL:https://mindfulartistry.com/events/retreat-oct-26/
SUMMARY:Retreat - Oct 26
DESCRIPTION:Meditative creative productivity sessions for artists\, entrepr
 eneurs and co-workers. Create alone or invite the whole team to sign up. B
 ring your projects!\nTICKETS HERE
ATTACH;FMTTYPE=image/jpeg:https://mindfulartistry.com/wp-content/uploads/2
 021/10/MA-Banner2-3-pdf.jpg
END:VEVENT
BEGIN:VEVENT
UID:117@mindfulartistry.com
DTSTART:20211031T180000Z
DTEND:20211031T200000Z
DTSTAMP:20211029T214833Z
URL:https://mindfulartistry.com/events/mindful-artistry-trick-or-treat/
SUMMARY:Mindful Artistry Trick-or-Treat
DESCRIPTION:YOU'RE INVITED TO A FREE MINDFUL ARTISTRY SESSION HALLOWEEN MOR
 NING! Drop in to the Instagram Live Sunday morning 10am-noon PST. Trick-o
 r-treat with us by going live with us and showing off some of your creativ
 e projects (trick) or just bring what you're working on to be guided in cr
 eative productivity like at a regular retreat (treat)!\n\nSIMPLY JOIN US O
 N INSTAGRAM LIVE @MINDFUL.ARTISTRY SUNDAY 10-NOON PST.\n\nWelcome to your 
 artists’ studio\, co-creative space\, accountability\, collaboration and
  networking hub. We are a group of creatives and entrepreneurs working\, b
 eing inspired and co-learning alongside each other.\n\nDrop-in to get to k
 now the community\, sew your costume\, glue on some googly eyes\, practice
  your make-up for the night\, write your novel\, whatever's your highest c
 reative excitement.\n\nWhat to expect from Mindful Artistry retreats:\n\n~
  Mindful moments / Intention-setting\n\n~ Creativity sessions / Productivi
 ty coaching\n\n~Networking opportunities / Open studio time\n\nOur regular
  Tuesday co-working retreat is 2-hours long with an optional hour of Open 
 Studio time at the end - the 3rd hour of the retreat is optional. Please b
 e prepared with the tools you’ll want to make. (Videos will be muted dur
 ing work sessions\, so be encouraged to bring musical projects.) Open Stud
 io is a time to continue with projects and network.\n\nWe’re here to hel
 p you focus\, design\, organize\, flow and complete your most exciting cre
 ative projects while we each take steps along an intentional exploration o
 f design and self-expression within the context of a wellness practice. We
  are a community who get things done together and encourage each other to 
 grow. The most important traits to practice here are presence\, generativ
 e curiosity and creativity. Bring your own projects - we are co-creating!\
 n\nIn our online retreats\, people have written memoirs\, practiced the pi
 ano\, painted pictures\, worked on their website’s layout\, done a movem
 ent practice\, mixed a drum track\, designed social media posts\, played g
 uitar\, arranged a bouquet\, edited a poem\, philosophized…\n\nJulia Mil
 ler-Vasquez leads the meditation and productivity workshops for Mindful Ar
 tistry\; She is a singer-songwriter\, dance and poet and founder of Mindfu
 l Artistry\, Biosonica\, Official Ecstatic Dance and Prophecy Productions.
 \n\nWith life-long work in performance and design and has co-producing mus
 ic festivals\, living room performances\, ceremonies\, corporate retreats\
 ; she's been a creative and mindfulness program developer and facilitator 
 since 2011 in refugee communities\, festivals and retreat centers\, with a
 thletes\, engineers\, medical professionals\, engineers and everyone in be
 tween.
ATTACH;FMTTYPE=image/jpeg:https://mindfulartistry.com/wp-content/uploads/2
 021/10/T-or-T-pdf.jpg
LOCATION:https://www.instagram.com/mindful.artistry/
END:VEVENT
BEGIN:VEVENT
UID:118@mindfulartistry.com
DTSTART:20211102T180000Z
DTEND:20211102T210000Z
DTSTAMP:20211029T215501Z
URL:https://mindfulartistry.com/events/mindful-artistry-retreat/
SUMMARY:Mindful Artistry Retreat
DESCRIPTION:Welcome to your artists’ studio\, co-creative space\, account
 ability\, collaboration and networking hub. We are a group of creatives an
 d entrepreneurs working\, being inspired and co-learning alongside each ot
 her.\n\nWhat to expect from Mindful Artistry retreats:\n\n~ Mindful moment
 s / Intention-setting\n\n~ Creativity sessions / Productivity coaching\n\n
 ~Networking opportunities / Open studio time\n\nWe’re here to help you f
 ocus\, design\, organize\, flow and complete your most exciting creative p
 rojects while we each take steps along an intentional exploration of desig
 n and self-expression within the context of a wellness practice. We are a 
 community who get things done together and encourage each other to grow. T
 he most important traits to practice here are presence\, generative curio
 sity and respect. Bring your own projects - we are co-creating!\n\nIn our 
 online retreats\, people have written memoirs\, practiced the piano\, pain
 ted pictures\, worked on their website’s layout\, done a movement practi
 ce\, mixed a drum track\, designed social media posts\, played guitar\, ar
 ranged a bouquet\, edited a poem\, philosophized…\n\nEach co-working ret
 reat is 2-hours long with an optional hour of Open Studio time at the end 
 - the 3rd hour of the retreat is optional. Please be prepared with the t
 ools you’ll want to make. (Videos will be muted during work sessions\, s
 o be encouraged to bring musical projects.) Open Studio is a time to conti
 nue with projects and network.\n\nGET YOUR TICKETS HERE
ATTACH;FMTTYPE=image/jpeg:https://mindfulartistry.com/wp-content/uploads/2
 021/10/MA-Banner-3-pdf.jpg
END:VEVENT
BEGIN:VEVENT
UID:119@mindfulartistry.com
DTSTART:20211116T180000Z
DTEND:20211116T210000Z
DTSTAMP:20211113T022008Z
URL:https://mindfulartistry.com/events/mindful-artistry-retreat-2/
SUMMARY:Mindful Artistry Retreat
DESCRIPTION:Meditative creative productivity sessions for artists\, entrepr
 eneurs and co-workers. Bring your projects!
ATTACH;FMTTYPE=image/jpeg:https://mindfulartistry.com/wp-content/uploads/2
 021/11/27.png
END:VEVENT
BEGIN:VEVENT
UID:120@mindfulartistry.com
DTSTART:20211118T180000Z
DTEND:20211118T210000Z
DTSTAMP:20211113T022546Z
URL:https://mindfulartistry.com/events/mindful-artistry-retreat-3/
SUMMARY:Mindful Artistry Retreat
DESCRIPTION:Meditative creative productivity sessions for artists\, entrepr
 eneurs and co-workers. Bring your projects!
ATTACH;FMTTYPE=image/jpeg:https://mindfulartistry.com/wp-content/uploads/2
 021/02/26.png
END:VEVENT
BEGIN:VEVENT
UID:121@mindfulartistry.com
DTSTART:20211119T180000Z
DTEND:20211119T210000Z
DTSTAMP:20211113T022838Z
URL:https://mindfulartistry.com/events/mindful-artistry-retreat-4/
SUMMARY:Mindful Artistry Retreat
DESCRIPTION:Meditative creative productivity sessions for artists\, entrepr
 eneurs and co-workers. Bring your projects!
ATTACH;FMTTYPE=image/jpeg:https://mindfulartistry.com/wp-content/uploads/2
 021/11/25.png
END:VEVENT
BEGIN:VEVENT
UID:122@mindfulartistry.com
DTSTART:20211203T180000Z
DTEND:20211203T210000Z
DTSTAMP:20211203T061514Z
URL:https://mindfulartistry.com/events/mindful-artistry-retreat-5/
SUMMARY:Mindful Artistry Retreat
DESCRIPTION:Meditative creative productivity sessions for artists\, entrepr
 eneurs and co-workers. Bring your projects!\n\nGet your tickets here.
ATTACH;FMTTYPE=image/jpeg:https://mindfulartistry.com/wp-content/uploads/2
 021/12/24.png
END:VEVENT
BEGIN:VEVENT
UID:130@mindfulartistry.com
DTSTART:20211203T220000Z
DTEND:20211204T000000Z
DTSTAMP:20211203T061447Z
URL:https://mindfulartistry.com/events/mindful-artistry-retreat-13/
SUMMARY:Mindful Artistry Retreat
DESCRIPTION:Meditative creative productivity sessions for artists\, entrepr
 eneurs and co-workers. Bring your projects!\n\nGet your tickets here.
ATTACH;FMTTYPE=image/jpeg:https://mindfulartistry.com/wp-content/uploads/2
 021/11/25.png
END:VEVENT
BEGIN:VEVENT
UID:131@mindfulartistry.com
DTSTART:20211206T180000Z
DTEND:20211206T210000Z
DTSTAMP:20211203T061531Z
URL:https://mindfulartistry.com/events/mindful-artistry-retreat-14/
SUMMARY:Mindful Artistry Retreat
DESCRIPTION:Meditative creative productivity sessions for artists\, entrepr
 eneurs and co-workers. Bring your projects!\n\nGet your tickets here.
ATTACH;FMTTYPE=image/jpeg:https://mindfulartistry.com/wp-content/uploads/2
 021/12/12-1.png
END:VEVENT
BEGIN:VEVENT
UID:132@mindfulartistry.com
DTSTART:20211206T220000Z
DTEND:20211207T010000Z
DTSTAMP:20211203T061554Z
URL:https://mindfulartistry.com/events/mindful-artistry-retreat-15/
SUMMARY:Mindful Artistry Retreat
DESCRIPTION:Meditative creative productivity sessions for artists\, entrepr
 eneurs and co-workers. Bring your projects!\n\nGet your tickets here.
ATTACH;FMTTYPE=image/jpeg:https://mindfulartistry.com/wp-content/uploads/2
 021/12/13-1.png
END:VEVENT
BEGIN:VEVENT
UID:123@mindfulartistry.com
DTSTART:20211207T180000Z
DTEND:20211207T210000Z
DTSTAMP:20211203T061615Z
URL:https://mindfulartistry.com/events/mindful-artistry-retreat-6/
SUMMARY:Mindful Artistry Retreat
DESCRIPTION:Meditative creative productivity sessions for artists\, entrepr
 eneurs and co-workers. Bring your projects!\n\nGet your tickets here.
ATTACH;FMTTYPE=image/jpeg:https://mindfulartistry.com/wp-content/uploads/2
 021/12/30.png
END:VEVENT
BEGIN:VEVENT
UID:133@mindfulartistry.com
DTSTART:20211207T220000Z
DTEND:20211208T010000Z
DTSTAMP:20211203T061634Z
URL:https://mindfulartistry.com/events/mindful-artistry-retreat-16/
SUMMARY:Mindful Artistry Retreat
DESCRIPTION:Meditative creative productivity sessions for artists\, entrepr
 eneurs and co-workers. Bring your projects!\n\nGet your tickets here.
ATTACH;FMTTYPE=image/jpeg:https://mindfulartistry.com/wp-content/uploads/2
 021/12/14.png
END:VEVENT
BEGIN:VEVENT
UID:124@mindfulartistry.com
DTSTART:20211209T180000Z
DTEND:20211209T210000Z
DTSTAMP:20211203T061651Z
URL:https://mindfulartistry.com/events/mindful-artistry-retreat-7/
SUMMARY:Mindful Artistry Retreat
DESCRIPTION:Meditative creative productivity sessions for artists\, entrepr
 eneurs and co-workers. Bring your projects!\n\nGet your tickets here.
ATTACH;FMTTYPE=image/jpeg:https://mindfulartistry.com/wp-content/uploads/2
 021/12/29.png
END:VEVENT
BEGIN:VEVENT
UID:134@mindfulartistry.com
DTSTART:20211209T220000Z
DTEND:20211210T010000Z
DTSTAMP:20211203T061708Z
URL:https://mindfulartistry.com/events/mindful-artistry-retreat-17/
SUMMARY:Mindful Artistry Retreat
DESCRIPTION:Meditative creative productivity sessions for artists\, entrepr
 eneurs and co-workers. Bring your projects!\n\nGet your tickets here.
ATTACH;FMTTYPE=image/jpeg:https://mindfulartistry.com/wp-content/uploads/2
 021/12/29.png
END:VEVENT
BEGIN:VEVENT
UID:125@mindfulartistry.com
DTSTART:20211210T180000Z
DTEND:20211210T210000Z
DTSTAMP:20211203T061731Z
URL:https://mindfulartistry.com/events/mindful-artistry-retreat-8/
SUMMARY:Mindful Artistry Retreat
DESCRIPTION:Meditative creative productivity sessions for artists\, entrepr
 eneurs and co-workers. Bring your projects!\n\nGet your tickets here.
ATTACH;FMTTYPE=image/jpeg:https://mindfulartistry.com/wp-content/uploads/2
 021/12/19.png
END:VEVENT
END:VCALENDAR